BEGIN:VCALENDAR
VERSION:2.0
PRODID:-//AudioTheme 1.6.3
BEGIN:VEVENT
UID:http://chapter11music.ca/?post_type=audiotheme_gig&#038;p=788
URL:http://chapter11music.ca/shows/2024-06-22/
DTSTART;TZID=GMT:20240623T020000
SUMMARY:Chapter 11 at the Billy Bishop Legion
DESCRIPTION:You can have dinner there first\, or just party with the band.  Legion priced drinks and fun
LOCATION:Billy Bishop Legion\, 1407 Laburnum St\, Vancouver\, BC\, V6J 3W4
END:VEVENT
END:VCALENDAR