BEGIN:VCALENDAR
VERSION:2.0
PRODID:-//AudioTheme 1.6.3
BEGIN:VEVENT
UID:http://chapter11music.ca/?post_type=audiotheme_gig&#038;p=267
URL:http://chapter11music.ca/shows/applefest2014/
DTSTART;TZID=GMT:20141019T190000
SUMMARY:Apple Festival
LOCATION:Apple Festival\, UBC Botanical Garden  6804 SW Marine Drive\, Vancouver\, BC\, Canada\, V6T 1Z4
END:VEVENT
END:VCALENDAR