BEGIN:VCALENDAR
VERSION:2.0
PRODID:-//AudioTheme 1.6.3
BEGIN:VEVENT
UID:http://chapter11music.ca/?post_type=audiotheme_gig&#038;p=391
URL:http://chapter11music.ca/shows/aug-22chapter-11-river-district-artisan-market/
DTSTART;TZID=GMT:20150822T170000
SUMMARY:Chapter 11 - River District Artisan Market
DESCRIPTION:10:00 am - 3:00 pm. A terrific market along the Fraser River. Come shop\, stroll and maybe have a lunch at Romer's.
LOCATION:River District Farmers Market\, 8683 Kerr Street\, Vancouver\, BC\, Canada\, V5S 4V7
END:VEVENT
END:VCALENDAR