BEGIN:VCALENDAR
VERSION:2.0
PRODID:-//AudioTheme 1.6.3
BEGIN:VEVENT
UID:http://chapter11music.ca/?post_type=audiotheme_gig&#038;p=396
URL:http://chapter11music.ca/shows/augchapter-11-trees-cafe/
DTSTART;TZID=GMT:20130810T030000
SUMMARY:Chapter 11 - Trees Cafe
DESCRIPTION:A Real Coffee House experience in downtown Vancouver
LOCATION:Trees Cafe\, 450 Granville St\, Vancouver\, BC\, Canada\, V6C 1V4
END:VEVENT
END:VCALENDAR