BEGIN:VCALENDAR
VERSION:2.0
PRODID:-//AudioTheme 1.6.3
BEGIN:VEVENT
UID:http://chapter11music.ca/?post_type=audiotheme_gig&#038;p=464
URL:http://chapter11music.ca/shows/bob-collins-at-bc-highland-games/
DTSTART;TZID=GMT:20160619T000000
SUMMARY:Bob Collins at BC Highland Games
DESCRIPTION:Bob Collins will be entertaining in the Beer Tent from 5:00pm
LOCATION:BC Highland Games\, Percy Perry Stadium\, Coquitlam\, BC\, Canada\, V3B 4S1
END:VEVENT
END:VCALENDAR