BEGIN:VCALENDAR
VERSION:2.0
PRODID:-//AudioTheme 1.6.3
BEGIN:VEVENT
UID:http://chapter11music.ca/?post_type=audiotheme_gig&#038;p=483
URL:http://chapter11music.ca/shows/bob-collins-the-river-market/
DTSTART;TZID=GMT:20160813T170000
SUMMARY:Bob Collins at the River Market
DESCRIPTION:10:00am-3:00pm
LOCATION:River District Farmers Market\, 8683 Kerr Street\, Vancouver\, BC\, Canada\, V5S 4V7
END:VEVENT
END:VCALENDAR