BEGIN:VCALENDAR
VERSION:2.0
PRODID:-//AudioTheme 1.6.3
BEGIN:VEVENT
UID:http://chapter11music.ca/?post_type=audiotheme_gig&#038;p=478
URL:http://chapter11music.ca/shows/chapter-11-at-a-private-birthday-event/
DTSTART;TZID=GMT:20161009T030000
SUMMARY:Chapter 11 at a Private Birthday event
LOCATION:Billy Bishop Legion\, 1407 Laburnum St\, Vancouver\, BC\, V6J 3W4
END:VEVENT
END:VCALENDAR