BEGIN:VCALENDAR
VERSION:2.0
PRODID:-//AudioTheme 1.6.3
BEGIN:VEVENT
UID:http://chapter11music.ca/?post_type=audiotheme_gig&#038;p=433
URL:http://chapter11music.ca/shows/chapter-11-at-crossroads-hospice-coffeehouse/
DTSTART;TZID=GMT:20160213T043000
SUMMARY:Chapter 11 at Crossroads Hospice Coffeehouse
DESCRIPTION:Open Stage 7:30 Chapter 11 at 9:00
LOCATION:Crossroads Hospice Coffeehouse\, 1100 - 2253 Leigh Square\, Port Coquitlam\, BC\, Canada\, V3C 3B8
END:VEVENT
END:VCALENDAR