BEGIN:VCALENDAR
VERSION:2.0
PRODID:-//AudioTheme 1.6.3
BEGIN:VEVENT
UID:http://chapter11music.ca/?post_type=audiotheme_gig&#038;p=463
URL:http://chapter11music.ca/shows/chapter-11-at-river-market/
DTSTART;TZID=GMT:20161001T170000
SUMMARY:Chapter 11 at River Market
DESCRIPTION:Drop by the market and enjoy Chapter 11 10am-3pm
LOCATION:River District Farmers Market\, 8683 Kerr Street\, Vancouver\, BC\, Canada\, V5S 4V7
END:VEVENT
END:VCALENDAR