BEGIN:VCALENDAR
VERSION:2.0
PRODID:-//AudioTheme 1.6.3
BEGIN:VEVENT
UID:http://chapter11music.ca/?post_type=audiotheme_gig&#038;p=467
URL:http://chapter11music.ca/shows/chapter-11-at-the-billy-bishop-legion/
DTSTART;TZID=GMT:20160523T023000
SUMMARY:Chapter 11 at the Billy Bishop Legion
DESCRIPTION:First BBQ of the Season at the Billy. 5:30-7:00 for a great BBQ
LOCATION:Billy Bishop Legion\, 1407 Laburnum St\, Vancouver\, BC\, V6J 3W4
END:VEVENT
END:VCALENDAR