BEGIN:VCALENDAR
VERSION:2.0
PRODID:-//AudioTheme 1.6.3
BEGIN:VEVENT
UID:http://chapter11music.ca/?post_type=audiotheme_gig&#038;p=681
URL:http://chapter11music.ca/shows/chapter-11-at-the-courtyard-terrace-2/
DTSTART;VALUE=DATE:20181207
SUMMARY:Chapter 11 at the Courtyard Terrace
DESCRIPTION:6:30-8:00
LOCATION:Private function\, Vancouver\, BC
END:VEVENT
END:VCALENDAR