BEGIN:VCALENDAR
VERSION:2.0
PRODID:-//AudioTheme 1.6.3
BEGIN:VEVENT
UID:http://chapter11music.ca/?post_type=audiotheme_gig&#038;p=475
URL:http://chapter11music.ca/shows/chapter-11-at-the-kino-cafe-5/
DTSTART;TZID=GMT:20160625T220000
SUMMARY:Chapter 11 at the Kino Cafe
DESCRIPTION:Chapter 11 are back at the Kino Cafe 3:00-5:00
LOCATION:Kino Cafe\, 3456 Cambie St.\, Vancouver\, BC\, Canada\, V5Z 2W8
END:VEVENT
END:VCALENDAR