BEGIN:VCALENDAR
VERSION:2.0
PRODID:-//AudioTheme 1.6.3
BEGIN:VEVENT
UID:http://chapter11music.ca/?post_type=audiotheme_gig&#038;p=745
URL:http://chapter11music.ca/shows/chapter-11-at-the-port-moody-legion/
DTSTART;TZID=GMT:20220612T020000
SUMMARY:Chapter 11 at the Port Moody Legion
DESCRIPTION:Fabulous new venue.  7-10pm
LOCATION:Port Moody Legion - 119\, 2529 Clarke St\, Port Moody\, BC\, Canada\, V3H1Z1
END:VEVENT
END:VCALENDAR