BEGIN:VCALENDAR
VERSION:2.0
PRODID:-//AudioTheme 1.6.3
BEGIN:VEVENT
UID:http://chapter11music.ca/?post_type=audiotheme_gig&#038;p=781
URL:http://chapter11music.ca/shows/chapter-11-at-the-pt-moody-ribfest/
DTSTART;TZID=GMT:20220715T190000
SUMMARY:Chapter 11 at the Pt Moody Ribfest
LOCATION:Rib Fest - Port Moody\, Rocky Pt Park  2800 Murray St\, \, Port Moody\, BC
END:VEVENT
END:VCALENDAR