BEGIN:VCALENDAR
VERSION:2.0
PRODID:-//AudioTheme 1.6.3
BEGIN:VEVENT
UID:http://chapter11music.ca/?post_type=audiotheme_gig&#038;p=678
URL:http://chapter11music.ca/shows/chapter-11-at-the-sylvia-hotel/
DTSTART;TZID=GMT:20181017T030000
SUMMARY:Chapter 11 at the Sylvia Hotel
DESCRIPTION:We are thrilled to be back at the Sylvia Hotel. Great views of English Bay.  8:00-10:00
LOCATION:Sylvia Hotel\, 1154 Gilford St\, Vancouver\, BC\, Canada\, V6G 2P6
END:VEVENT
END:VCALENDAR