BEGIN:VCALENDAR
VERSION:2.0
PRODID:-//AudioTheme 1.6.3
BEGIN:VEVENT
UID:http://chapter11music.ca/?post_type=audiotheme_gig&#038;p=427
URL:http://chapter11music.ca/shows/chapter-11-at-the-winter-river-market-2/
DTSTART;TZID=GMT:20151115T190000
SUMMARY:Chapter 11 at the Winter River Market
DESCRIPTION:We'll be there from 11:00am-3:00pm
LOCATION:River District Farmers Market\, 8683 Kerr Street\, Vancouver\, BC\, Canada\, V5S 4V7
END:VEVENT
END:VCALENDAR