BEGIN:VCALENDAR
VERSION:2.0
PRODID:-//AudioTheme 1.6.3
BEGIN:VEVENT
UID:http://chapter11music.ca/?post_type=audiotheme_gig&#038;p=418
URL:http://chapter11music.ca/shows/chapter-11-at-ubcs-apple-festival/
DTSTART;TZID=GMT:20151018T190000
SUMMARY:Chapter 11 at UBC's Apple Festival
DESCRIPTION:Come and feast on great apples and great music.
LOCATION:Apple Festival\, UBC Botanical Garden  6804 SW Marine Drive\, Vancouver\, BC\, Canada\, V6T 1Z4
END:VEVENT
END:VCALENDAR