BEGIN:VCALENDAR
VERSION:2.0
PRODID:-//AudioTheme 1.6.3
BEGIN:VEVENT
UID:http://chapter11music.ca/?post_type=audiotheme_gig&#038;p=553
URL:http://chapter11music.ca/shows/chapter-11-christmas-at-the-billy-bishop-legion/
DTSTART;TZID=GMT:20171216T040000
SUMMARY:Chapter 11 Christmas at the Billy Bishop Legion
DESCRIPTION:Classic hits and the right amount of Christmas Cheer!
LOCATION:Billy Bishop Legion\, 1407 Laburnum St\, Vancouver\, BC\, V6J 3W4
END:VEVENT
END:VCALENDAR