BEGIN:VCALENDAR
VERSION:2.0
PRODID:-//AudioTheme 1.6.3
BEGIN:VEVENT
UID:http://chapter11music.ca/?post_type=audiotheme_gig&#038;p=437
URL:http://chapter11music.ca/shows/chapter-11-christmas-celebration-at-courtyard-terrace/
DTSTART;TZID=GMT:20161209T223000
SUMMARY:Chapter 11-Christmas Celebration at Courtyard Terrace
LOCATION:Private function\, Vancouver\, BC
END:VEVENT
END:VCALENDAR