BEGIN:VCALENDAR
VERSION:2.0
PRODID:-//AudioTheme 1.6.3
BEGIN:VEVENT
UID:http://chapter11music.ca/?post_type=audiotheme_gig&#038;p=405
URL:http://chapter11music.ca/shows/chapter-11-heritage-grill/
DTSTART;TZID=GMT:20130905T030000
SUMMARY:Chapter 11 - Heritage Grill
LOCATION:Heritage Grill\, 447 Columbia St\, New Westminster\, BC\, Canada\, V3L 1A9
END:VEVENT
END:VCALENDAR