BEGIN:VCALENDAR
VERSION:2.0
PRODID:-//AudioTheme 1.6.3
BEGIN:VEVENT
UID:http://chapter11music.ca/?post_type=audiotheme_gig&#038;p=399
URL:http://chapter11music.ca/shows/chapter-11-kitsilano-showboat/
DTSTART;TZID=GMT:20130720T020000
SUMMARY:Chapter 11 - Kitsilano Showboat
LOCATION:Kistilano Showboat\, 2300 Cornwall Ave\, Vancouver\, BC\, Canada\, V6K 1B7
END:VEVENT
END:VCALENDAR