BEGIN:VCALENDAR
VERSION:2.0
PRODID:-//AudioTheme 1.6.3
BEGIN:VEVENT
UID:http://chapter11music.ca/?post_type=audiotheme_gig&#038;p=419
URL:http://chapter11music.ca/shows/chapter-11-performs-at-the-terry-fox-run/
DTSTART;TZID=GMT:20150920T173000
SUMMARY:Chapter 11 performs at the Terry Fox Run
DESCRIPTION:Back by request to support this fabulous cause. 10:30am-12:30
LOCATION:Terry Fox Run\, Blue Mountain Park  975 King Albert Avenue\, Coquitlam\, BC\, Canada\, V3J
END:VEVENT
END:VCALENDAR