BEGIN:VCALENDAR
VERSION:2.0
PRODID:-//AudioTheme 1.6.3
BEGIN:VEVENT
UID:http://chapter11music.ca/?post_type=audiotheme_gig&#038;p=401
URL:http://chapter11music.ca/shows/chapter-11-trees-cafe/
DTSTART;TZID=GMT:20130427T020000
SUMMARY:Chapter 11 - Trees Cafe
LOCATION:Trees Cafe\, 450 Granville St\, Vancouver\, BC\, Canada\, V6C 1V4
END:VEVENT
END:VCALENDAR