BEGIN:VCALENDAR
VERSION:2.0
PRODID:-//AudioTheme 1.6.3
BEGIN:VEVENT
UID:http://chapter11music.ca/?post_type=audiotheme_gig&#038;p=722
URL:http://chapter11music.ca/shows/gig-722/
DTSTART;TZID=GMT:20200222T040000
SUMMARY:Billy Bishop Legion
DESCRIPTION:Come enjoy the evening
LOCATION:Billy Bishop Legion\, 1407 Laburnum St\, Vancouver\, BC\, V6J 3W4
END:VEVENT
END:VCALENDAR