BEGIN:VCALENDAR
VERSION:2.0
PRODID:-//AudioTheme 1.6.3
BEGIN:VEVENT
UID:https://chapter11music.ca/?post_type=audiotheme_gig&#038;p=874
URL:http://chapter11music.ca/shows/gig-874/
DTSTART;TZID=GMT:20250706T200000
SUMMARY:Private function
DESCRIPTION:Fabulous wedding backyard party!
LOCATION:Private function\, Vancouver\, BC
END:VEVENT
END:VCALENDAR