BEGIN:VCALENDAR
VERSION:2.0
PRODID:-//AudioTheme 1.6.3
BEGIN:VEVENT
UID:http://chapter11music.ca/?post_type=audiotheme_gig&#038;p=635
URL:http://chapter11music.ca/shows/golden-spike-days-at-rocky-point-park/
DTSTART;TZID=GMT:20180630T180000
SUMMARY:Golden Spike Days at Rocky Point Park
DESCRIPTION:Always a fun time in the park. 
LOCATION:PCT - Golden Spike Days\, Rocky Point Park  2800 Murray St\, Pt Moody\, BC
END:VEVENT
END:VCALENDAR