BEGIN:VCALENDAR
VERSION:2.0
PRODID:-//AudioTheme 1.6.3
BEGIN:VEVENT
UID:http://chapter11music.ca/?post_type=audiotheme_gig&#038;p=387
URL:http://chapter11music.ca/shows/jun-12-chapter-11-deep-cove-coffee-house/
DTSTART;TZID=GMT:20150613T023000
SUMMARY:Chapter 11 - Deep Cove Coffee House
LOCATION:Deep Cove Coffee House\, 1200 Parkgate Ave\, North Vancouver\, BC\, Canada\, V7H 2X9
END:VEVENT
END:VCALENDAR