BEGIN:VCALENDAR
VERSION:2.0
PRODID:-//AudioTheme 1.6.3
BEGIN:VEVENT
UID:http://chapter11music.ca/?post_type=audiotheme_gig&#038;p=389
URL:http://chapter11music.ca/shows/jun-20-bob-collins-bc-highland-games/
DTSTART;TZID=GMT:20150620T190000
SUMMARY:Bob Collins - BC Highland Games
DESCRIPTION:Opening Ceremony at noon Schedule TBA. Bring your best brogue and tartan. Make a whole day of the Scottish Highland Games!
LOCATION:BC Highland Games\, Percy Perry Stadium\, Coquitlam\, BC\, Canada\, V3B 4S1
END:VEVENT
END:VCALENDAR