BEGIN:VCALENDAR
VERSION:2.0
PRODID:-//AudioTheme 1.6.3
BEGIN:VEVENT
UID:http://chapter11music.ca/?post_type=audiotheme_gig&#038;p=384
URL:http://chapter11music.ca/shows/mar-17-st-paddys-day-mahony-and-sons/
DTSTART;TZID=GMT:20150317T203000
SUMMARY:St Paddy's Day - Mahony and Sons
DESCRIPTION:1:30 to 3:30 pm. Wear your Irish\, to be sure!
LOCATION:Mahony & Sons / Stamps Landing\, 601 Stamps Landing\, Vancouver\, BC\, Canada\, V5Z 3Z1
END:VEVENT
END:VCALENDAR