BEGIN:VCALENDAR
VERSION:2.0
PRODID:-//AudioTheme 1.6.3
BEGIN:VEVENT
UID:http://chapter11music.ca/?post_type=audiotheme_gig&#038;p=383
URL:http://chapter11music.ca/shows/may-8-sea-to-sky-heritage-fair/
DTSTART;TZID=GMT:20150509T013000
SUMMARY:Bob Collins - Sea to Sky Heritage Fair
DESCRIPTION:Located at the Lynn Valley Library square
LOCATION:Sea to Sky Heritage Fair\, 1277 Lynn Valley Rd\, North VAncouver\, BC\, Canada\, V7J 2A1
END:VEVENT
END:VCALENDAR