BEGIN:VCALENDAR
VERSION:2.0
PRODID:-//AudioTheme 1.6.3
BEGIN:VEVENT
UID:http://chapter11music.ca/?post_type=audiotheme_gig&#038;p=163
URL:http://chapter11music.ca/shows/mr-brownstone/
DTSTART;TZID=GMT:20140509T023000
SUMMARY:Mr. Brownstone | Bar and Grill
LOCATION:Mr. Brownstone\, 2904 Main Street\, Vancouver\, BC\, Canada\, V5T 3G3
END:VEVENT
END:VCALENDAR