BEGIN:VCALENDAR
VERSION:2.0
PRODID:-//AudioTheme 1.6.3
BEGIN:VEVENT
UID:http://chapter11music.ca/?post_type=audiotheme_gig&#038;p=345
URL:http://chapter11music.ca/shows/nov29-2014/
DTSTART;TZID=GMT:20141130T050000
SUMMARY:Windy Bridges with Chapter 11
DESCRIPTION:Kicking off the Windy Bridges show at 9:00 pm
LOCATION:Seven Dining Lounge\, 53 West Broadway\, Vancouver\, BC\, Canada\, V5Y 1P1
END:VEVENT
END:VCALENDAR