BEGIN:VCALENDAR
VERSION:2.0
PRODID:-//AudioTheme 1.6.3
BEGIN:VEVENT
UID:http://chapter11music.ca/?post_type=audiotheme_gig&#038;p=168
URL:http://chapter11music.ca/shows/riverdistrict-farmersmarket-june28/
DTSTART;TZID=GMT:20140628T170000
SUMMARY:River District Farmers Market
LOCATION:River District Farmers Market\, 8683 Kerr Street\, Vancouver\, BC\, Canada\, V5S 4V7
END:VEVENT
END:VCALENDAR