BEGIN:VCALENDAR
VERSION:2.0
PRODID:-//AudioTheme 1.6.3
BEGIN:VEVENT
UID:http://chapter11music.ca/?post_type=audiotheme_gig&#038;p=630
URL:http://chapter11music.ca/shows/search-for-the-perfect-pint/
DTSTART;TZID=GMT:20180511T010000
SUMMARY:Search For the Perfect Pint
DESCRIPTION:Try the beer and love the music. 6:00-9:00
LOCATION:Rotary Club - Search For the Perfect Pint\, Inlet Theatre  100 Newport Dr\, \, Port Moody\, \, BC \, Canada\, V3H 5C3
END:VEVENT
END:VCALENDAR