BEGIN:VCALENDAR
VERSION:2.0
PRODID:-//AudioTheme 1.6.3
BEGIN:VEVENT
UID:http://chapter11music.ca/?post_type=audiotheme_gig&#038;p=444
URL:http://chapter11music.ca/shows/st-paddys-day-at-the-wolf-hound/
DTSTART;TZID=GMT:20160317T233000
SUMMARY:St Paddy's Day at the Wolf & Hound
DESCRIPTION:Wear some green and Join Bob Collins for some great Irish Fun
LOCATION:Wolf & Hound\, 3617 W Broadway\, Vancouver\, BC \, V6R 2B8
END:VEVENT
END:VCALENDAR