BEGIN:VCALENDAR
VERSION:2.0
PRODID:-//AudioTheme 1.6.3
BEGIN:VEVENT
UID:http://chapter11music.ca/?post_type=audiotheme_gig&#038;p=339
URL:http://chapter11music.ca/shows/terry-fox-run/
DTSTART;TZID=GMT:20140914T161500
SUMMARY:Terry Fox Run
LOCATION:Terry Fox Run\, Blue Mountain Park  975 King Albert Avenue\, Coquitlam\, BC\, Canada\, V3J
END:VEVENT
END:VCALENDAR