BEGIN:VCALENDAR
VERSION:2.0
PRODID:-//AudioTheme 1.6.3
BEGIN:VEVENT
UID:http://chapter11music.ca/?post_type=audiotheme_gig&#038;p=827
URL:http://chapter11music.ca/shows/wolf-and-hound-7/
DTSTART;TZID=GMT:20240622T033000
SUMMARY:Wolf and Hound
DESCRIPTION:Friday night 8:30-11:30
LOCATION:Wolf & Hound\, 3617 W Broadway\, Vancouver\, BC \, V6R 2B8
END:VEVENT
END:VCALENDAR